BEGIN:VCALENDAR
VERSION:2.0
PRODID:-//Stockdale &amp; Leggo Intranet - ECPv6.15.20//NONSGML v1.0//EN
CALSCALE:GREGORIAN
METHOD:PUBLISH
X-WR-CALNAME:Stockdale &amp; Leggo Intranet
X-ORIGINAL-URL:https://mystockdaleleggo.com.au
X-WR-CALDESC:Events for Stockdale &amp; Leggo Intranet
REFRESH-INTERVAL;VALUE=DURATION:PT1H
X-Robots-Tag:noindex
X-PUBLISHED-TTL:PT1H
BEGIN:VTIMEZONE
TZID:Australia/Melbourne
BEGIN:STANDARD
TZOFFSETFROM:+1100
TZOFFSETTO:+1000
TZNAME:AEST
DTSTART:20250405T160000
END:STANDARD
BEGIN:DAYLIGHT
TZOFFSETFROM:+1000
TZOFFSETTO:+1100
TZNAME:AEDT
DTSTART:20251004T160000
END:DAYLIGHT
BEGIN:STANDARD
TZOFFSETFROM:+1100
TZOFFSETTO:+1000
TZNAME:AEST
DTSTART:20260404T160000
END:STANDARD
BEGIN:DAYLIGHT
TZOFFSETFROM:+1000
TZOFFSETTO:+1100
TZNAME:AEDT
DTSTART:20261003T160000
END:DAYLIGHT
BEGIN:STANDARD
TZOFFSETFROM:+1100
TZOFFSETTO:+1000
TZNAME:AEST
DTSTART:20270403T160000
END:STANDARD
BEGIN:DAYLIGHT
TZOFFSETFROM:+1000
TZOFFSETTO:+1100
TZNAME:AEDT
DTSTART:20271002T160000
END:DAYLIGHT
END:VTIMEZONE
BEGIN:VEVENT
DTSTART;VALUE=DATE:20261011
DTEND;VALUE=DATE:20261013
DTSTAMP:20260420T003148
CREATED:20260414T025944Z
LAST-MODIFIED:20260414T030151Z
UID:2140825-1791676800-1791849599@mystockdaleleggo.com.au
SUMMARY:Vic Leaders Conference - Mitchelton Winery
DESCRIPTION:
URL:https://mystockdaleleggo.com.au/event/vic-leaders-conference-mitchelton-winery/
LOCATION:470 Mitchellstown Rd\, Nagambie VIC 3608\, 470 Mitchellstown Road\, Nagambie\, VIC\, 3608\, Australia
ATTACH;FMTTYPE=image/png:https://mystockdaleleggo.com.au/wp-content/uploads/2026/04/Save-the-Date-Mitchelton.png
END:VEVENT
END:VCALENDAR